BEGIN:VCALENDAR
VERSION:2.0
PRODID:-//Tukios.com/
BEGIN:VEVENT
UID:ff1040c7-00bd-4fc9-88c5-2b53260a9905@www.rogersfhmilford.com
DTSTAMP:20260419T184953Z
DTSTART:20260501T150000Z
DTEND:20260501T160000Z
SUMMARY:Funeral Service
DESCRIPTION:
URL:https://www.rogersfhmilford.com/obituaries/robert-koppenhaver
LOCATION:The Milford Church of the Nazarene 11 Salevan Place  Milford DE 
	19963
GEO:38.9265567;-75.4320333
END:VEVENT
END:VCALENDAR