BEGIN:VCALENDAR
VERSION:2.0
PRODID:-//Tukios.com/
BEGIN:VEVENT
UID:b5abc71f-1d3a-4cfa-bd77-e7f0f4163f6c@www.rogersfhmilford.com
DTSTAMP:20260419T185122Z
DTSTART:20260501T140000Z
DTEND:20260501T150000Z
SUMMARY:Visitation
DESCRIPTION:
URL:https://www.rogersfhmilford.com/obituaries/robert-koppenhaver
LOCATION: 11 Salevan Pl  Milford DE 19963
GEO:38.9267109;-75.4315723
END:VEVENT
END:VCALENDAR