BEGIN:VCALENDAR
VERSION:2.0
PRODID:-//Tukios.com/
BEGIN:VEVENT
UID:825c407c-1cc0-436e-8e62-e5d560f35e28@www.rogersfhmilford.com
DTSTAMP:20260425T214237Z
DTSTART:20260429T160000Z
DTEND:20260429T170000Z
SUMMARY:Funeral Service
DESCRIPTION:
URL:https://www.rogersfhmilford.com/obituaries/karl-oliver
LOCATION: 301 Lakeview Ave  Milford DE 19963
GEO:38.9090257;-75.4347914
END:VEVENT
END:VCALENDAR