BEGIN:VCALENDAR
VERSION:2.0
PRODID:-//Tukios.com/
BEGIN:VEVENT
UID:05de59fe-20ff-402f-acd5-9377a5900778@www.rogersfhmilford.com
DTSTAMP:20260425T214142Z
DTSTART:20260429T143000Z
DTEND:20260429T160000Z
SUMMARY:Visitation
DESCRIPTION:
URL:https://www.rogersfhmilford.com/obituaries/karl-oliver
LOCATION: 301 Lakeview Ave  Milford DE 19963
GEO:38.9090257;-75.4347914
END:VEVENT
END:VCALENDAR