BEGIN:VCALENDAR
VERSION:2.0
PRODID:-//Tukios.com/
BEGIN:VEVENT
UID:deabf5f4-8090-45c2-bcd2-c2ea2a5a546b@www.rogersfhmilford.com
DTSTAMP:20260422T170954Z
DTSTART:20260424T150000Z
DTEND:20260424T160000Z
SUMMARY:Funeral Service
DESCRIPTION:
URL:https://www.rogersfhmilford.com/obituaries/jesse-chisenhall
LOCATION: 301 Lakeview Ave  Milford DE 19963
GEO:38.9090257;-75.4347914
END:VEVENT
END:VCALENDAR