BEGIN:VCALENDAR
VERSION:2.0
PRODID:-//Tukios.com/
BEGIN:VEVENT
UID:226fca37-88dd-4176-bb17-145c6396ec97@www.rogersfhmilford.com
DTSTAMP:20260422T171014Z
DTSTART:20260424T130000Z
DTEND:20260424T150000Z
SUMMARY:Visitation
DESCRIPTION:
URL:https://www.rogersfhmilford.com/obituaries/jesse-chisenhall
LOCATION: 301 Lakeview Ave  Milford DE 19963
GEO:38.9090257;-75.4347914
END:VEVENT
END:VCALENDAR